BEGIN:VCALENDAR
VERSION:2.0
CALSCALE:GREGORIAN
PRODID:-//Diputació de Barcelona//DibaCMS//EN
BEGIN:VEVENT
UID:2716
DTSTAMP:20260422T160924
DTSTART:20260515T084000
DTEND:20260515T094000
SUMMARY:Visita Banca Mòbil de Catalunya, Caixa Enginyers 
LOCATION:
METHOD:PUBLISH
X-WR-CALNAME:calders@calders.cat
X-WR-TIMEZONE:Europe/Madrid
DESCRIPTION:El servei Banca Mòbil de Catalunya, serà a Calders (Caixa Enginyers)

URI:https://www.calders.cat/actualitat/agenda/visita-banca-mobil-de-catalunya-caixa-enginyers-.html
CLASS:PUBLIC
END:VEVENT
END:VCALENDAR
