BEGIN:VCALENDAR
VERSION:2.0
CALSCALE:GREGORIAN
PRODID:-//Diputació de Barcelona//DibaCMS//EN
BEGIN:VEVENT
UID:2721
DTSTAMP:20260422T160649
DTSTART:20260502T103000
DTEND:20260502T120000
SUMMARY:Deixalleria Mòbil a Calders
LOCATION:
METHOD:PUBLISH
X-WR-CALNAME:calders@calders.cat
X-WR-TIMEZONE:Europe/Madrid
DESCRIPTION:
URI:https://www.calders.cat/actualitat/agenda/2721-deixalleria-mobil-a-calders.html
CLASS:PUBLIC
END:VEVENT
END:VCALENDAR
