BEGIN:VCALENDAR
VERSION:2.0
CALSCALE:GREGORIAN
PRODID:-//Diputació de Barcelona//DibaCMS//EN
BEGIN:VEVENT
UID:2726
DTSTAMP:20260424T153813
DTSTART:20260425T120000
DTEND:20260425T133000
SUMMARY:Veredicte i entrega de premis, XXI Certamen literari
LOCATION:
METHOD:PUBLISH
X-WR-CALNAME:calders@calders.cat
X-WR-TIMEZONE:Europe/Madrid
DESCRIPTION:VEREDICTE I ENTREGA DE PREMIS
XXI Certamen Anton Busquets i Punset de narrativa de Calders 

 

URI:https://www.calders.cat/actualitat/agenda/veredicte-i-entrega-de-premis-xxi-certamen-literari.html
CLASS:PUBLIC
END:VEVENT
END:VCALENDAR
